BEGIN:VCALENDAR
PRODID:-//Det Danske Spejderkorps//NONSGML Gruppeweb//EN
VERSION:2.0
CALSCALE:GREGORIAN
X-PUBLISHED-TTL:PT1H
X-WR-CALNAME:Pionererne
METHOD:PUBLISH
BEGIN:VEVENT
UID:gruppeweb.dk:4104:event:347
DTSTAMP:20260420T025654Z
LAST-MODIFIED:20260213T132942Z
SUMMARY:Kollektiv uge /Kolle Kolle
DESCRIPTION:Er en uge hvor vi som spejdere skal bo sammen\, gå i skole og 
 tage på  \narbejde/til fritidsaktiviteter\, sammen og på egen hånd.\n\n
 Turen vil foregå i Inca spejdernes hytte lidt udenfor Gudme (Gudme kohave
 vej  \n40). Så alle skal kunne transportere sig selv via cykle enten helt
  til skole  \neller Oure hvor der vil gå busser.\n\nJeg (karl-Emil) vil v
 ære hjemme i hytten så vidt muligt hele ugen\, da jeg  \nhar læseferie 
 og ingen eksamener i den pågældende uge.\n\nVi vil handle ind i løbet a
 f ugen fælles. Mængden af lommepenge bestemmer  \nI som forælder/værge
 \, da det ses at spejderne er i en alder\, hvor de godt  \nselv kan håndt
 ere deres forbrug.\n\nAf sikkerhedsmæssige årsager bedes i komme med et 
 fysisk eksemplar af  \nskoleskema og fritidsaktiviteter så jeg ved hvorn
 år at de unge cirka vil  \nvære tilbage.\n\nHvis der er dage eller tidsp
 unkter hvor at I som forælder/værge skal have  \njeres børn med\, vil d
 et være en kæmpe hjælp hvis kontakter mig forinden\,  \nså vi ikke st
 år og bliver bekymret.\n\nJeg vil kunne følge spejderne i skole/ til fri
 tidsaktiviteter hvis  \nnødvendigt.\n\n\nDet koster 75 kr. per spejder pe
 r døgn i forplejning dvs. 525 kr. alt i  \nalt  pengene bedes overført 
 via mobilepay til boxen KolleKolle: 1773GF.  \nHusk at skriv navn på den 
 pågældende spejder\n\nPakkeliste\n\n· Sovegrej (der er madrasser)· Tø
 j til en hel uge (Inkl. Idrætstøj)·  \nFysisk eksemplar af skema og lis
 te over fritidsaktiviteter (med  \ntidspunkter)· Noget de kan lave hvis d
 e begynder at kede sig.· Cykel og  \ncykelhjelm· Skoletasker med det hel
 e i. (Inkl. Elektronik de skal bruge  \n(husk Opladere))\n· Toilet grej·
  Lommepenge\n*Kontakt info\n*Karl-Emil tlf: +45 23 67 57 94\nJeg glæder m
 ig til en hyggelig uge \n
URL:https://www.pionererne.dk/begivenhed/kollektiv-uge-kolle-kolle
DTSTART:20250608T130000Z
DTEND:20250615T100000Z
LOCATION:Inca Spejderne Sydfyn\, Gudme Kohavevej 40\, 5884 Gudme
END:VEVENT
BEGIN:VEVENT
UID:gruppeweb.dk:4104:event:348
DTSTAMP:20260420T025654Z
LAST-MODIFIED:20250526T110340Z
SUMMARY:Valdemarsdag
DESCRIPTION:Til Alle Pionere\n\n*\n*\n\nSøndag d. 15. juni er det Valdemar
 s dag. Vi er så heldige at vi ved en  \nansøgning i april måned\, har f
 ået tilsagn om en ny fane\, doneret af  \nDanmarks - samfundet. \n\nSom 
 en del af ansøgningen\, tilbyder man at sælge Valdemarsflag\, og vi er  
 \nså heldige at troppen\, gerne tager sig af denne opgave\, i samarbejde 
 med  \njuniorerne. \n\n*\n*\n\n======== “Den 15. juni er det valdemarsd
 ag (indført 1912) for at mindes\n         den dag i 1219\, hvor Dannebrog
  ifølge myten faldt ned fra himlen i\n         Estland\, hvor den danske 
 konge Valdemar Sejr kæmpede mod esterne i\n         slaget ved Lyndanisse
 . Dagen bliver fejret af Danmarks-Samfundet\,\n         som sælger små d
 annebrogsflag til at finansiere flaggaver og faner\n         som uddeles t
 il forskellige foreninger. Indtil 1948 var dagen\n         skolefridag.”
  https://www.danmarks-samfundet.dk/ [1] ==============\n\n*\n*\n\n========
  Troppen og Juniorerne mødes i Vejstrup Ådal d. 15/6 kl. 10.00 og\n     
     fordeler sig i Skårup og Vejstrup\, for at sælge Valdemarsflag.\n   
       Troppen er på cykel fra Gudme\, da i den uge afholder Kolle- kolle\
 n         (spejder- kollektiv). Hvis man som junior kan have cykel med\, e
 r det\n         fedt\, men det er ikke en nødvendighed.  ===============
 ============\n ===========================================================
 ==================\n\n======== Klokken 12 mødes vi igen i Ådalen til en 
 tår saft og et stykke\n         kage. Mens spejderne nyder kage og saft\,
  vil der være\n         informationsmøde om sommerlejr for forældrene! 
 ====================\n\n======== Vi har brug for at 2 - 3 forældre\, der 
 vil bage kage.  ============\n\n*\n*\n\nDer er møde for familiespejderne
  og Spirerne i Ådalen samme dag kl. 10- 12  \n(som vanligt) og de må ger
 ne blive til kage og saft. \n\n*\n*\n\nKlokken 15.00 tager Karl - Emil\, 
 Maria og 2- 3 mere imod vores nye fane i  \nAnsgar Kirke i Odense\, Sdr. B
 oulevard 1B\, 5000 Odense C. \n\n\n\n\n[1] https://www.danmarks-samfundet
 .dk/\n
URL:https://www.pionererne.dk/begivenhed/valdemarsdag
DTSTART:20250615T080000Z
DTEND:20250615T103000Z
LOCATION:Pionererne\, Nyborgvej 518\, 5881 Skårup Fyn
END:VEVENT
BEGIN:VEVENT
UID:gruppeweb.dk:4104:event:349
DTSTAMP:20260420T025654Z
LAST-MODIFIED:20250609T162056Z
SUMMARY:Sommerovernatning for familiespejder
DESCRIPTION:Hej Alle seje familiespejdere. \nSom afslutning på sæsonen o
 g for at opnå Ude-sover-mærket tilbydes en  \nTELT OVERNATNING i Vejstru
 p Ådal 28.-29. Juni \n \n\n*Årets Sommerovernatning for familiespejder
 en - Jubii*\n\nDet bliver de heeelt "lavthængende lejr-livsfrugter". Fami
 liespejderbørnene  \ner små og relativt nye\, de fleste er 3-4 år. Lejr
 en er for netop tiltænkt  \ntil disse 3-4 årige + 1 forældre. Formålet
  er at få den allerførste  \ntelt-lejroplevelse i spejderregi. Så der e
 r ikke behov for de store idéer  \nog nye påfund. Det simple lejrliv\, 
 Å-dalen ved aftentide og at skulle være  \ni lejr i et døgn er "stort" 
 nok \nProgrammet som børnene forventes at deltage i så meget som muligt
  i:\nVelkommen kl 15.00 ved flagstangen\nSlå telte op\, Vi sover i spejde
 rgruppens telte.\nIndrette lidt lejrkøkken\nLave aftensmad over bål.\nHj
 ælpe til med opvasken\nLejrbål\, med sange\, historier og små sketches 
 (jokes på teaterform).\n(Voksenhygge ved bålet - hvis børnene tillader 
 det)\nSove.\nMorgenmad på bål.\nHjælpe til med opvasken\nEn\n"lang" gå
 tur i å-dalen (med forstørrelsesglas og Huskuvit-jagt)\nSmør\nselv frok
 ost\nPakke lejr sammen.\nMed sig hjem får de UdeSover-mærket \nVi slutt
 er samlet ved flagstangen når vi fælles har spist (måske tager vi  \nfr
 okosten med på vandreturen) og har pakket lejrpladsen sammen. Jeg har sat
   \ndet til senest 12.30\nJeg håber I vil være med på at give jeres bø
 rn og jer selv denne  \noplevelse.\nPakkelisten finder I på hjemmesiden w
 ww.pionererne.dk Pakkeliste til  \nweekendtur [1]\n*Tilmelding via link l
 igeledes på pionererne.dk.  Prisen er 50 kr som  \nbetales direkte til L
 ene eller på mobilpay-boks 5003NG*\n\n\n[1] https://www.pionererne.dk/pak
 keliste-til-weekendtur\n
URL:https://www.pionererne.dk/begivenhed/sommerovernatning-familiespejder
DTSTART:20250628T130000Z
DTEND:20250629T103000Z
LOCATION:Pionererne\, Nyborgvej 518\, 5881 Skårup Fyn
END:VEVENT
BEGIN:VEVENT
UID:gruppeweb.dk:4104:event:346
DTSTAMP:20260420T025654Z
LAST-MODIFIED:20260213T132945Z
SUMMARY:Pionerernes Sommerlejr 2025
DESCRIPTION:\n*\n*\n\nÅrets sommerlejr går til Troldhøj på Als.\n\nSomm
 erlejren er for hele gruppen\, fra spirer til tropsspejdere.\n\n*\n*\n\nHe
 le gruppen er samlet på lejren fra *onsdag den 23. juli til lørdag den  
 \n26. juli*.\n\n*\n*\n\n*Juniorspejderne* starter den 22. juli\, hvor de t
 ransporterer sig selv mod  \nTroldhøj\, mere information om det senere.\n
 \n*\n*\n\n*Troppen* starter søndag den 20. juli\, hvor de skal sejle i to
  sejlbåde fra  \nLundeborg til Fynshav\, med flere øhop undervejs. Tropp
 en er hjemme igen  \nsøndag den 27. juli.\n\n*\n*\n\nPå Troldhøj skal v
 i bo og sove i telt på en primitiv lejrplads\, dog med  \ntoilet og bad \
 ;-) lejrpladsen ligger lige ned til vandet\, så det vil også  \nvære mu
 ligt at bade i havet. Vi skal opleve det skønne område og hvad Als  \nel
 lers har at byde på.\n\nNederst på tilmeldingssiden skal I tilmelde jer 
 turen senest den 15. juni af  \nhensyn til den videre planlægning.\n\n*\n
 *\n\n*Spirerne* mødes onsdag den 23. juli ved færgen i Bøjden og slutte
 r samme  \nsted igen lørdag den 26. juli (tidspunkter kommer senere) pris
 en for  \nSpirerne er 500 kr pr deltager.\n\n*\n*\n\n*Juniorerne* mødes i
  området omkring Faaborg (opdateres senere) tirsdag den  \n22. juli. De s
 lutter lørdag den 26. juli ved færgen i Bøjden. Prisen for  \njuniorern
 e er 650 kr. pr. deltager.\n\n*\n*\n\n*Troppen* mødes søndag den 20. jul
 i kl 10:00 på Lundeborg havn. De slutter  \nsamme sted søndag den 27. ju
 li (tidspunktet tilgår) Prisen for troppen er  \n900 kr. pr deltager\n\n*
 \n*\n\nBetalingen bedes overføres til Pionerernes konto\; regnr. 5704 kon
 tonr.  \n7000180570 husk navn på indbetaler.  \nDer kommer mere informa
 tion ud og pakkelister\, når vi nærmer os  \nsommerlejren.\n\n*\n*\n\nVi
  glæder os rigtig meget til en fantastisk tur med jer\n\nSpejderhilsen \
 n\n\nLederne\n\n
URL:https://www.pionererne.dk/begivenhed/pionerernes-sommerlejr-2025
DTSTART:20250720T080000Z
DTEND:20250727T130000Z
LOCATION:Troldhøj\, Troldhøjvej 1\, 6430 Nordborg
END:VEVENT
BEGIN:VEVENT
UID:gruppeweb.dk:4104:event:350
DTSTAMP:20260420T025654Z
LAST-MODIFIED:20250730T143840Z
SUMMARY:Spejderopstart kom og vær med
DESCRIPTION:\n\nSøndag d. 17. august afholder Det Danske Spejderkorps\, sp
 ejderforældre dag.  \nForældrene til spejderne i de lokale grupper invit
 eres ind i en Verden af  \nSPEJD!\n\nVi vil også meget gerne se voksne\, 
 uden tilknytning til gruppen\, men med  \ninteresse for spejderarbejdet!\n
 \nProgrammet hos Pionererne er som følger: \n\n10.30 Flaghejsning\, indv
 ielse af ny fane og velkommen\n\n*\n*\n\n11.00- 12.00 \n\n * 1. hjælp \
 n   \n * Tænd bål med tændstål\n   \n\n*\n*\n\n12.00- 13.00 \n\n * Sn
 it en “toaster”\n   \n * Lav en toast på bål \n   \n\n*\n*\n\n13.00
 - 14.00 \n\n * Spejdermetoden i praksis - leg og øvelser\n   \n * Spejde
 rsange rundt om bålet \n   \n\n\n14.00 Vi tager flaget ned\n\n
URL:https://www.pionererne.dk/begivenhed/spejderopstart-kom-og-vaer-med
DTSTART:20250817T083000Z
DTEND:20250817T120000Z
LOCATION:Pionererne\, Nyborgvej 518\, 5881 Skårup Fyn
END:VEVENT
BEGIN:VEVENT
UID:gruppeweb.dk:4104:event:351
DTSTAMP:20260420T025654Z
LAST-MODIFIED:20260213T132934Z
SUMMARY:Efterårstur
DESCRIPTION:Kære spejdere\n\n*\n*\n\nEfteråret står for døren og vi ska
 l ud og mærke det gode efterårsvejr.  \nVi skal på en kort vandretur og
  sove i sheltere\,  for som der står i  \nsangen “Efterårsvisen” \
 n\n“Blæs på vejrets skiften - året går på hæld\n\nså træk i trø
 jen - gå ud at gå!\n\n\nHallo - halli - se\, her kommer vi.\n\nVåde af 
 regn - efterårstegn.\n\nVi vandrer bort fra byernes støv\n\nud i det gul
 brune løv.\n\nOg mens vi går mellem dryp fra våde træ´r \n\nså komm
 er solen frem og ler.\n\nHallo - halli - se\, her kommer vi\,\n\nefterårs
 kåde og fri.”\n\n\nTuren er en fællestur for junior og trop\, vi start
 er lidt forskudt\, så  \ntroppen kommer til at gå lidt længere.\n\n\nTr
 oppen mødes lørdag klokken 12:00 på p-pladsen ved Refsvindinge Friskole
 \,  \nØrbækvej 39\, 5853 Ørbæk hvorfra de skal gå ca. 13 km. \n\n\nJ
 uniorerne mødes lørdag klokken 13:30 ved Grøndalsgruppens hytte\,  \nKa
 ppendrupvej 2\, 5550 Langeskov\, hvorfra de skal gå ca. 5. km.\n\n\nVi sk
 al overnatte i sheltere og lave lækker mad i Det Fælles Mødesteds  \nud
 ekøkken\, så der kan virkelig laves god gourmet bålmad og muligvis bage
 s  \ni de store pizzaovne \;-) \n\n\nVi slutter søndag klokken 11:00 med
  afhentning ved “Det Fælles  \nMødested”  Du kommer til Det Fælles
  Mødested ved at parkere på  \nP-pladsen ved: \n\nRolighedsvej 100\, 52
 20 Odense SØ\n\n\n\n\n\nTuren koster 100 kr. pr person og overføres med 
 MobilePay til: 9036XX husk  \nat skriv navn på deltager \n\n\n\n\nVi hå
 ber at I alle har tid og lyst til at komme med og få en god og sjov  \nop
 levelse sammen.\n\nSpejderhilsen Mads\, Nikolaj (60625700) og Simon (23695
 672)\n\n\nPakkeliste til weekendtur efterår\n\nI skal pakke til én overn
 atning og alt skal pakkes\, så I kan bære det på  \njeres hike. \n\n\n
 \nSoveudstyr:\n\n * Sovepose \n   \n * Tæppe/ Lagenpose (det er koldt om
  natten!)\n   \n * Liggeunderlag\n   \n * Pude (sovepose hylstret kan med 
 fordel fyldes med tøj og bruges)\n   \n * Sovedyr - valgfrit \;-)\n   \n\
 n \n\n\nService: \n\n * Dyb og flad tallerken\n   \n * kop\n   \n * kniv
 \, gaffel og ske\n   \n * viskestykke\n   \n\n \n\nTøj: \n\n * 1 ekstra
  sæt tøj\, inkl. bukser\, undertøj\, trøje og strømper\n   \n * ekstr
 a sko\n   \n * Tyk trøje/ jakke\n   \n * Regntøj\n   \n * Nattøj inkl. 
 tørre sokker til natten!\n   \n * Uniform + tørklæde\n   \n * evt. hue 
 og handsker\n   \n\n \n\nToiletsager: \n\n * Tandbørste \n   \n * Tand
 pasta\n   \n * Medicin/creme e.l. (lederen skal vide besked)\n   \n\n\nAnd
 et:\n\n * Lommelygte/pandelampe \n   \n\n
URL:https://www.pionererne.dk/begivenhed/efteraarstur
DTSTART:20251025T100000Z
DTEND:20251026T100000Z
LOCATION:Det Fælles Mødested\, Rolighedsvej 100\, 5220 Odensen SØ
END:VEVENT
BEGIN:VEVENT
UID:gruppeweb.dk:4104:event:352
DTSTAMP:20260420T025654Z
LAST-MODIFIED:20260213T132932Z
SUMMARY:DiviDusDag 2025
DESCRIPTION:Det er igen tid til DIVIDUSDAG.\n\nDet er et arrangement hvor s
 pejderne og lederne i Bro division mødes på  \ntværs af grupperne.\n\nD
 agen er fyldt med spændene aktiviteter og sjov underholdning.\n\n\nDu må
  gerne invitere en kammerat med til Dividusdag\, hvor I hygger jer  \nsamm
 en på aktiviteterne.\n\nHusk madpakke og drikkelse til frokost\, og et kr
 us. Vi skal være både inde  \nog udendørs\, så husk også tøj herefte
 r.\n\n\nPå selve dagen vil du og din evt. kammerat få 2 aktiviteter af d
 e 4  \naktiviteter som skal angives på tilmeldingen.\n\nPris pr. person e
 r 60 kr. og deltager du sammen med en kammerat\, skal der  \noverføres 12
 0 kr. til Pionerernes MobilePay 94185.\n\nVed spørgsmål - kontakt din le
 der.\n\n
URL:https://www.pionererne.dk/begivenhed/dividusdag-2025
DTSTART:20251101T090000Z
DTEND:20251101T150000Z
LOCATION:Vestre Skole\, Gyldenbjergsvej 31\, 5700 Svendborg
END:VEVENT
BEGIN:VEVENT
UID:gruppeweb.dk:4104:event:353
DTSTAMP:20260420T025654Z
LAST-MODIFIED:20260213T132929Z
SUMMARY:Den Magiske Globus - Juletur 2025
DESCRIPTION:\n\n.... Kære spejdere\n\nJulen er i fare! Den magiske globus\
 , som holder julestemningen i live over  \nhele verden\, er gået i stykke
 r. Dens lys er slukket\, og uden det kan ingen  \nlande fejre jul.\nSammen
  skal vi rejse jorden rundt for at finde de manglende lyskrystaller og  \n
 genoprette globussen\, så julen kan reddes!\n\nVi skal blandt andet besø
 ge Lapland\, Brasilien\, Italien og Australien – og  \nundervejs venter 
 sjove aktiviteter\, kreative værksteder og fysiske  \nudfordringer. Til s
 idst vender vi tilbage til Julens Hovedkvarter\, hvor  \nglobussen forhåb
 entlig lyser op\, så vi kan fejre julen med varm kakao og  \nfællessang.
 \n\nTuren er for hele spejdergruppen og vi håber at se så mange af jer s
 om  \nmuligt.\n\n*\n*\n\nFredag den 28. november mødes trop og klanspejde
 rne klokken 19:30\n\nLørdag den 29. november støder resten af gruppen ti
 l (familiespejd\, spirer  \nog junior) klokken 09:00\n\nSøndag den 30. no
 vember slutter vi alle fælles klokken 11:30\n\n*\n*\n\nTuren er gratis\, 
 men I skal medbringe en lille pakke til pakkespillet (værdi  \nmaks 20 kr
 )\n\nVi glæder os til at se jer alle :-) \n\nPå hjemmesiden kan I finde
  en standard pakkeliste. I behøver ikke spisegrej  \nog liggeunderlag\, d
 a der i hytten.  \nhttps://www.pionererne.dk/pakkeliste-til-weekendtur [1]
  \n\n*\n*\n\nVi glæder os til at være sammen med jer\n\nSpejderhilsen\n
 \n\nJuletursudvalget\n\n\n[1] https://www.pionererne.dk/pakkeliste-til-wee
 kendtur\n
URL:https://www.pionererne.dk/begivenhed/den-magiske-globus-juletur-2025
DTSTART:20251128T183000Z
DTEND:20251130T103000Z
LOCATION:Egebjerghytten\, Tørvelong 22\, 5771 Stenstrup
END:VEVENT
BEGIN:VEVENT
UID:gruppeweb.dk:4104:event:355
DTSTAMP:20260420T025654Z
LAST-MODIFIED:20260110T113639Z
SUMMARY:Lakridspiber og lederhygge
DESCRIPTION:Lakridspiben – Voksenudgave\n\nFormål: Fællesskab\, erfarin
 g\, refleksion\nTid: 2 timer\nSted: Åhytten\nGrupper: 3 personer\n\n\n---
 --------------------------------------------------------------------------
 -\n\n-------- Overordnet tidsplan ----------------------------------------
 ---------\n\nTid\n\nIndhold\n\n13.30 - 14.00\n\nVelkomst & rammesætning\n
 \n14.00 - 14.25\n\nAktivitet 1 – Praktisk\n\n14.25 - 14:35\n\nLakridspib
 e + råb\n\n14:35 - 15.00\n\nAktivitet 2 – Færdighed & dømmekraft\n\n1
 5.00 - 15.10\n\nLakridspibe + råb\n\n15.10 - 15.35\n\nAktivitet 3 – Ref
 leksiv\n\n15.35 - 15.45\n\nLakridspibe + råb\n\n15.45 - 16.15\n\nFælles 
 afslutning\n\n*\n*\n**\n\n16.15- 16.40    Transport til Maximum (Bowling
 )\n\n16.4 Find bowling sko\n\n17.00- 18.00   Bowle \n\n**\n**\n\n18.00- 
 19.45        Fælles spisning i restauranten i  \nMaximum.      
                                      
                 \n\n*\n*\n\n======== Aktivitet 1: Den stab
 ile løsning ===================================\n\nFokus: Samarbejde\, ro
 ller\, kreativitet\nOpgave: Byg en selvstående konstruktion\, der holder 
 en kop vand i 30 sek.\n\n(Som tidligere beskrevet – én taler\, én bygg
 er\, én observerer)\n\n👉 Giver fysisk energi og grin tidligt på aften
 en.\n\nRåb: “Den våde” “Den var vandet overmåde\, har vi ingen  \
 nredningsbåde? - Hu - hej - vilde dyr\, små elefanter på et cykelstyr\,
  med  \ngashåndtag og motor på - Wroummm!”\n\n\n----------------------
 --------------------------------------------------------\n\n======== Aktiv
 itet 2: Valget der tæller =====================================\n\nFokus:
  Knob\, vurdering\, erfaring\nOpgave: Vælg og bind knob til realistiske s
 cenarier – med begrundelse.\n\n👉 Trækker på spejderviden uden at bl
 ive teknisk for teknikkens skyld.\n\nRåb: Stavebravo “B-R-A- siger bra\
 , V-O\, siger vo\, siger bra\, siger vo  \nsiger BRAVO!”\n\n\n----------
 --------------------------------------------------------------------\n\n==
 ====== Aktivitet 3: Spejderens kompas ====================================
 ==\n\nFokus: Værdier\, erfaring\, fælles sprog\nEnergi: Rolig\, eftertæ
 nksom\, samlende\n\n.... Opgave\n\nHver gruppe får 4–5 refleksionskort 
 (eller spørgsmål læst op).\n\nEksempler:\n\n * Hvornår har du sidst v
 æret mest spejder – uden uniform?\n   \n * Hvad er forskellen på at ta
 ge ledelse og tage ansvar?\n   \n * Hvilken spejderfærdighed bruger du me
 st i hverdagen?\n   \n * Hvornår er “godt nok” bedre end “perfekt
 ”?\n   \n * Hvad betyder fællesskab for dig – i praksis?\n   \n\nRegl
 er\n\n * Alle siger noget – kort eller langt\n   \n * Ingen diskussion\,
  kun nysgerrighed\n   \n * Man må gerne sige “pas” én gang\n   \n\n.
 ... Lille fælles opgave\n\nTil sidst formulerer gruppen:\n\nÉn sætning\
 , der beskriver “god spejderånd for voksne”\n\nSætningen kan læses 
 højt i plenum – frivilligt.\n\n👉 Denne aktivitet giver:\n\n * Nye sp
 ejdere adgang til kulturen\n   \n * Erfarne spejdere plads til eftertanke\
 n   \n * Gruppen et fælles sprog\n   \n\n.... Lakridspibe & råb\n\nRåb:
  Tjikkerlikker - “Tjikkerlikker\, tjikkerlikker\, tjauv\, tjauv\, tjauv.
   \nBommerlikker\, bommerlikker bauw\, bauw\, bauw. Tjikkerlikker\, bommer
 likker.  \nTish\, Bom\, Ba\, Det Danske Spejderkorps\, Ra Ra Ra!”\n\n*\n
 *\n\n\n-------------------------------------------------------------------
 -----------\n\n-------- Fælles afslutning (20 min) ----------------------
 -------------------\n\nRundkreds\, evt. varm drik.\n\nSpørg:\n\n * Var de
 r noget\, der blev sagt\, som satte sig fast?\n   \n * Hvad tager du med d
 ig videre?\n   \n\n.... Afsluttende fællesråb\n\nAlle står op:\n\nRåb:
  “Med lakrids i”: “Den var hissi\, den var bissi\; den var med  \nla
 krids i!”\n\n\n
URL:https://www.pionererne.dk/begivenhed/lakridspiber-og-lederhygge
DTSTART:20260118T123000Z
DTEND:20260118T184500Z
LOCATION:Pionererne\, Nyborgvej 518\, 5881 Skårup Fyn
END:VEVENT
BEGIN:VEVENT
UID:gruppeweb.dk:4104:event:357
DTSTAMP:20260420T025654Z
LAST-MODIFIED:20260213T045824Z
SUMMARY:Tænkedag & Grupperådsmøde
DESCRIPTION:Så er der kun 9 dage tilbage til fælles tænkedag og efterfø
 lgende  \ngrupperådsmøde på Øster Åby Friskole. \n\nVi glæder os ti
 l at se så mange som muligt\, både spejdere og forældre. \n\nVi tilbyd
 er frokost 11.30- 12 og ønsker derfor at vide\, hvor mange I kommer.\n\n\
 nVh. Ledere og bestyrelse i Pionererne. \n\n
URL:https://www.pionererne.dk/begivenhed/taenkedag-grupperaadsmoede
DTSTART:20260222T090000Z
DTEND:20260222T130000Z
LOCATION:Øster Åby Friskole\, Nyborgvej 501\, 5881 Skårup
END:VEVENT
BEGIN:VEVENT
UID:gruppeweb.dk:4104:event:356
DTSTAMP:20260420T025654Z
LAST-MODIFIED:20260213T132921Z
SUMMARY:Påskekursus på Forlev 2026
DESCRIPTION:🔥 *PATRULJEKURSUS 2026 – EN PÅSKE DU SENT GLEMMER* 🔥\n
 \nSå er det tid til at samle patruljen og tage afsted på en uge fyldt me
 d  \nspejderliv\, fællesskab og uforglemmelige oplevelser! Hvert år saml
 es mellem  \n150 og 300 spejdere fra hele landet på Forlev Spejdercenter 
 til påskekursus  \n– og i 2026 bliver ingen undtagelse. Kurset er for s
 pejdere i alderen 12-16  \når\, uanset korps\, og giver jer mulighed for 
 at tage væk fra de vante rammer  \nog styrke patruljen på en helt ny må
 de.\n\nAlle spejdere mellem 12 og 16 år kan deltage. Det er vigtigt\, at 
 man kan  \ndeltage hele ugen – fra lørdag til lørdag – for at få de
 t fulde  \nudbytte og modtage kursusbevis. Programmet er tætpakket\, så 
 vær klar på  \nat give den max gas hele ugen.\n\nDen første dag bruges 
 på at ankomme\, hilse på de mange andre spejdere og  \netablere lejrplad
 sen i samarbejde med 3-5 andre patruljer i en såkaldt  \nenklave. I sover
  i egne telte og står selv for madlavning\, bål og hygge i  \nlejren. Pa
 truljen planlægger hjemmefra\, hvad der skal med i patruljekassen\,  \nog
  sørger for eget telt.\n\nHver morgen starter med fælles morgenmad og sa
 mling\, hvorefter dagen  \nforegår på et projekt\, som patruljen vælger
  ved lejrens start. Projekterne  \nspænder bredt – fra pionering og sto
 re konstruktioner til kreative  \nprojekter\, teater\, konkurrencer og pat
 ruljeudvikling. Projekterne løber hele  \nugen og gennemføres sammen med
  andre patruljer og faste lagmænd fra  \ncenteret. Til frokost laver patr
 uljerne selv varm mad over bål.\n\nOm aftenen samles I i bygningen *Tutte
 n*\, hvor der er hygge\, sang\,  \nunderholdning og mulighed for at købe 
 lidt lækkerier. I løbet af ugen vil  \nder desuden være fællesarrangem
 enter\, herunder den store fællesdag\, hvor  \nalle kursister deltager i 
 aktiviteter på tværs af hele lejren.\n\nNår I tager hjem fra patruljeku
 rset\, har I forhåbentlig fået nye venner\,  \nmasser af inspiration til
  jeres spejderarbejde og ikke mindst en patrulje med  \nstærkere sammenho
 ld og fælles oplevelser i rygsækken.\n\n*Pris:*\nVi har besluttet at gru
 ppen giver et tilskud\, så prisen bliver 400 kr. pr.  \ndeltager. Prisen 
 dækker ophold\, morgenmad alle dage\, T-shirt\, projekter og  \nfællesda
 g. Patruljen står selv for frokost\, aftensmad og transport. Dvs at  \nI 
 selv står for forplejning og transport. Vi skal nok hjælpe jer med at  \
 narrangere det. betalingen overføres til gruppens konto\, husk navn på 
  \nbetaler (spejder): 5704 7000180570\n\n*Tilmelding og betaling:*\nTroppe
 ns tilmeldingsfrist er *mandag d. 26. januar 2026 - *Herefter tilmelder  \
 nvi jer samlet.\n\n*Vigtige datoer:*\n\n * Kursusstart: Lørdag d. 28. mar
 ts 2026 (ankomst kl. 09:45–12:00)\n   \n * Kursusslut: Lørdag d. 4. apr
 il 2026 (afgang kl. 14:30–15:00)\n   \n\n*Adresse:*\nForlev Spejdercente
 r\nSkyggelundsvej 3\, 8660 Skanderborg\n\nKurset er røg-\, nikotin-\, tob
 aks- og alkoholfrit. Overtrædelse medfører  \nhjemsendelse.\n\nNår I er
  tilmeldt\, modtager både deltagere\, forældre/værger og tropsleder  \n
 et deltagerbrev med praktisk information.\n\n
URL:https://www.pionererne.dk/begivenhed/paaskekursus-paa-forlev-2026
DTSTART:20260328T090000Z
DTEND:20260404T123000Z
LOCATION:Forlev Spejdercenter\, Skyggelundsvej 3\, 8660 Skanderborg
END:VEVENT
BEGIN:VEVENT
UID:gruppeweb.dk:4104:event:358
DTSTAMP:20260420T025654Z
LAST-MODIFIED:20260412T135540Z
SUMMARY:Kolle-kolle 2026
DESCRIPTION: Kolle Kolle \n\n*\n*\n\nKolle kolle er en uge\, hvor vi som 
 spejdere skal bo sammen\, gå i skole og  \nvære til fritidsaktiviteter.
  \n\n*\n*\n\nDet vil foregå i Inca spejdernes hytte\, lidt uden for Gudm
 e (Gudme Kohavevej  \n40.) \n\nAlle skal kunne transportere sig selv via 
 cykel\, enten helt til skole eller  \ntil Oure\, hvor der vil gå busser.
  \n\n*\n*\n\nThor vil så vidt muligt være i hytten hele ugen\, da han h
 ar læseferie. \n\n*\n*\n\nVi vil handle sammen i løbet af ugen\, og vi 
 vil selv lave mad. \n\nHvis man gerne vil have lommepenge med\, må man s
 elv bestemme beløbet. \n\n*\n*\n\nHvis der er dage eller tidspunkter\, h
 vor I forældre skal have jeres børn  \nmed\, må I meget gerne informere
  os om det. \n\n*\n*\n\nDet koster 75. kr per spejder per døgn i forplej
 ning\, dvs. 525 kr i alt. \n\nPengene bedes blive overført via mobilpay 
 til boksen Kolle-Kolle 2026:  \n9202JN\n\nHusk at skrive navn på den påg
 ældende spejder. \n\n*\n*\n\nPakkeliste \n\n*\n*\n\n * Sovegrej (der er
  madrasser\, men hvis man har mulighed for det\, må man\n   gerne tage eg
 en med) \n   \n\n*\n*\n\n * Tøj til en hel uge (inkl idrætstøj) \n   
 \n\n*\n*\n\n * Noget man kan lave\, hvis man begynder at kede sig \n   \n
 \n*\n*\n\n * Cykel og cykelhjelm \n   \n\n*\n*\n\n * Skoletaske med det h
 ele i. (Inkl. Elektronik man skal bruge ( Husk\n   opladere) \n   \n\n*\n
 *\n\n * Toiletgrej \n   \n\n*\n*\n\n * Lommepenge \n   \n\n*\n*\n\nKonta
 ktinfo \n\n*\n*\n\nGry: 23 64 60 61 \n\n*\n*\n\nEmma: 25 72 08 11 \n\n*
 \n*\n\nThor: 22 18 02 01 \n\n*\n*\n\nHailee: 93 89 18 65 \n\n*\n*\n\nPra
 ktisk information \n\n*\n*\n\nStartdato: 24. maj kl. 15.00\n\n*\n*\n\nSlu
 tdato: 30. maj \n\n\nSted: Inca Spejderne Sydfyn\, Gudme Kohavevej 40\, 5
 884\, Gudme. \n\n
URL:https://www.pionererne.dk/begivenhed/kolle-kolle-2026
DTSTART:20260524T130000Z
DTEND:20260530T130000Z
LOCATION:Inca Spejderne Sydfyn\, Gudme Kohavevej 40\, 5884 Gudme
END:VEVENT
BEGIN:VEVENT
UID:gruppeweb.dk:4104:event:354
DTSTAMP:20260420T025654Z
LAST-MODIFIED:20260213T132926Z
SUMMARY:Spejdernes lejr 2026
DESCRIPTION:\nTilmelding til Spejdernes Lejr 2026\n\nI sommeren 2026 skal v
 i af sted på Spejdernes Lejr – Danmarks største  \nspejderoplevelse\, 
 hvor tusindvis af spejdere samles for at lave fede  \naktiviteter\, bygge 
 lejr\, møde nye venner og have en uge fyldt med  \nspejderliv.\n\nLejren 
 foregår i Hedeland Naturpark\, og hele vores spejdergruppe tager  \nafste
 d sammen og bor på fælles lejrplads. Det betyder\, at vi laver mad  \nsa
 mmen\, deltager i aktiviteter i grenene og oplever lejren som én samlet  
 \ngruppe.\n\nHvis du vil med\, skal du tilmelde dig gennem gruppen via vor
 es tilmelding. \n\nNår du er tilmeldt\, sørger vi ledere for resten –
  f.eks.  transport\,  \naktiviteter og lejrpladsen. Senere får du også 
 mere praktisk info om  \npakning\, transport og hvad der skal ske på lejr
 en.\n\nSpejdernes Lejr er en unik oplevelse\, og vi håber\, at så mange 
 som muligt  \nhar lyst til at tage med og skabe en uge fyldt med fællessk
 ab\, oplevelser og  \ngode minder.\n\nLejren er fra den 18. - 26. juli for
  dem der deltager på hel lejr og fra den  \n23. - 26. juli for familiespe
 jd og spirer (samt som mulighed for juniorerne)\n\n.... Deltagerpriser\n\n
 Prisen dækker hele lejrens varighed inkl. fælles transport\, mad og  \na
 ktiviteter.\nPionererne giver et tilskud\, der er fratrukket den oprindeli
 ge pris.\n\n * Familiespejdere 0–2 år (3 døgn): Gratis\n   \n * Famili
 espejdere 3–5 år (3 døgn): 350 kr.\n   \n * Spirer (3 døgn): 1.000 kr
 .\n   \n * Junior (3 døgn): 1.000 kr.\n   \n * Junior (hel lejr): 1.600 k
 r.\n   \n * Trop (hel lejr): 1.600 kr.\n   \n * Klan (hel lejr): 1.600 kr.
 \n   \n * Ledere/hjælpere (hel lejr): 1.600 kr.\n   \n * Leder/hjælpere/
 forældre (3 døgn): 1.000 kr.\n   \n\nDet er deltagerens alder ved lejren
 s start d. 18. juli der bestemmer hvilken  \nkategori man er i.\n\nDer er 
 tilmeldingsfrist 1. februar\, hvor betalingen også skal være  \noverfør
 t til gruppens konto\, husk navn på betaler (spejder): 5704  \n7000180570
 \n\nTilmeldingen er først endelig godkendt\, når betalingen er modtaget 
 :-) \nDet vil være muligt at eftertilmelde sig\, men til en højere pris
 \, da prisen  \nstiger 1. marts.\n\nI kan læse meget mere om lejren her: 
 https://spejderneslejr.dk/ [1] \n\nVi håber at se jer alle på SL2026! 
 \n\n\n\n\n[1] https://spejderneslejr.dk/\n
URL:https://www.pionererne.dk/begivenhed/spejdernes-lejr-2026
DTSTART:20260718T080000Z
DTEND:20260726T120000Z
LOCATION:Hedeland\, Tranemosevej 2\, 2640 Hedehusene
END:VEVENT
END:VCALENDAR
